BEGIN:VCALENDAR
VERSION:2.0
PRODID:-//Claretian Missionaries—USA-Canada Province - ECPv6.15.17.1//NONSGML v1.0//EN
CALSCALE:GREGORIAN
METHOD:PUBLISH
X-WR-CALNAME:Claretian Missionaries—USA-Canada Province
X-ORIGINAL-URL:https://claretians.org
X-WR-CALDESC:Events for Claretian Missionaries—USA-Canada Province
REFRESH-INTERVAL;VALUE=DURATION:PT1H
X-Robots-Tag:noindex
X-PUBLISHED-TTL:PT1H
BEGIN:VTIMEZONE
TZID:America/Chicago
BEGIN:DAYLIGHT
TZOFFSETFROM:-0600
TZOFFSETTO:-0500
TZNAME:CDT
DTSTART:20230312T080000
END:DAYLIGHT
BEGIN:STANDARD
TZOFFSETFROM:-0500
TZOFFSETTO:-0600
TZNAME:CST
DTSTART:20231105T070000
END:STANDARD
BEGIN:DAYLIGHT
TZOFFSETFROM:-0600
TZOFFSETTO:-0500
TZNAME:CDT
DTSTART:20240310T080000
END:DAYLIGHT
BEGIN:STANDARD
TZOFFSETFROM:-0500
TZOFFSETTO:-0600
TZNAME:CST
DTSTART:20241103T070000
END:STANDARD
BEGIN:DAYLIGHT
TZOFFSETFROM:-0600
TZOFFSETTO:-0500
TZNAME:CDT
DTSTART:20250309T080000
END:DAYLIGHT
BEGIN:STANDARD
TZOFFSETFROM:-0500
TZOFFSETTO:-0600
TZNAME:CST
DTSTART:20251102T070000
END:STANDARD
END:VTIMEZONE
BEGIN:VEVENT
DTSTART;TZID=America/Chicago:20240623T083000
DTEND;TZID=America/Chicago:20240623T093000
DTSTAMP:20260419T141723
CREATED:20240510T222110Z
LAST-MODIFIED:20260107T211945Z
UID:6446-1719131400-1719135000@claretians.org
SUMMARY:North Walpole\, NH - Parish Mission Visit
DESCRIPTION:Learn of the inspiring work of the Claretian Missionaries in the homily of  Fr. Byron Macias\, CMF at the celebration of Mass at St. Peter’s Church.
URL:https://claretians.org/event/parish-mission-visit-mass-with-fr-byron-macias-cmf-2/
LOCATION:St. Peter’s Church\, 39 Church Street\, North Walpole\, NH\, 03609
CATEGORIES:PMV
END:VEVENT
BEGIN:VEVENT
DTSTART;TZID=America/Chicago:20240623T103000
DTEND;TZID=America/Chicago:20240623T113000
DTSTAMP:20260419T141723
CREATED:20240510T222420Z
LAST-MODIFIED:20260107T211917Z
UID:6448-1719138600-1719142200@claretians.org
SUMMARY:Charlestown\, NH - Parish Mission Visit
DESCRIPTION:Learn of the inspiring work of the Claretian Missionaries in the homily of  Fr. Byron Macias\, CMF at the celebration of Mass at St. Catherine of Sienna Church.
URL:https://claretians.org/event/parish-mission-visit-mass-with-fr-byron-macias-cmf-3/
LOCATION:St. Catherine of Sienna Church\, 285 Main Street\, Charlestown\, NH\, 03603
CATEGORIES:PMV
END:VEVENT
END:VCALENDAR