BEGIN:VCALENDAR
VERSION:2.0
PRODID:-//Claretian Missionaries—USA-Canada Province - ECPv6.15.17.1//NONSGML v1.0//EN
CALSCALE:GREGORIAN
METHOD:PUBLISH
X-ORIGINAL-URL:https://claretians.org
X-WR-CALDESC:Events for Claretian Missionaries—USA-Canada Province
REFRESH-INTERVAL;VALUE=DURATION:PT1H
X-Robots-Tag:noindex
X-PUBLISHED-TTL:PT1H
BEGIN:VTIMEZONE
TZID:America/Chicago
BEGIN:DAYLIGHT
TZOFFSETFROM:-0600
TZOFFSETTO:-0500
TZNAME:CDT
DTSTART:20230312T080000
END:DAYLIGHT
BEGIN:STANDARD
TZOFFSETFROM:-0500
TZOFFSETTO:-0600
TZNAME:CST
DTSTART:20231105T070000
END:STANDARD
BEGIN:DAYLIGHT
TZOFFSETFROM:-0600
TZOFFSETTO:-0500
TZNAME:CDT
DTSTART:20240310T080000
END:DAYLIGHT
BEGIN:STANDARD
TZOFFSETFROM:-0500
TZOFFSETTO:-0600
TZNAME:CST
DTSTART:20241103T070000
END:STANDARD
BEGIN:DAYLIGHT
TZOFFSETFROM:-0600
TZOFFSETTO:-0500
TZNAME:CDT
DTSTART:20250309T080000
END:DAYLIGHT
BEGIN:STANDARD
TZOFFSETFROM:-0500
TZOFFSETTO:-0600
TZNAME:CST
DTSTART:20251102T070000
END:STANDARD
END:VTIMEZONE
BEGIN:VEVENT
DTSTART;TZID=America/Chicago:20240525T183000
DTEND;TZID=America/Chicago:20240525T193000
DTSTAMP:20260419T084835
CREATED:20240430T014420Z
LAST-MODIFIED:20260107T212851Z
UID:6418-1716661800-1716665400@claretians.org
SUMMARY:Montevideo\, MN - Parish Mission Visit
DESCRIPTION:Learn of the inspiring work of the Claretian Missionaries in the homily of  Fr. Reegan Soosai\, CMF at the celebration of Mass at St. Joseph Church.
URL:https://claretians.org/event/montevideo/
LOCATION:St. Joseph Catholic Church\, 512 Black Oak Ave\, Montevideo\, Minnesota\, 56265\, United States
CATEGORIES:PMV
END:VEVENT
BEGIN:VEVENT
DTSTART;TZID=America/Chicago:20240526T083000
DTEND;TZID=America/Chicago:20240526T093000
DTSTAMP:20260419T084835
CREATED:20240507T173357Z
LAST-MODIFIED:20260107T212104Z
UID:6432-1716712200-1716715800@claretians.org
SUMMARY:Dawson\, MN - Parish Mission Visit
DESCRIPTION:Learn of the inspiring work of the Claretian Missionaries in the homily of  Fr. Reegan Soosai\, CMF at the celebration of Mass at St. James Church.
URL:https://claretians.org/event/parish-mission-visit-mass-with-fr-reegan-soosai-cmf/
LOCATION:St. James Church\, 1012 Locust Street\, Dawson\, MN\, 56232\, United States
CATEGORIES:PMV
END:VEVENT
BEGIN:VEVENT
DTSTART;TZID=America/Chicago:20240526T103000
DTEND;TZID=America/Chicago:20240526T113000
DTSTAMP:20260419T084835
CREATED:20240507T173809Z
LAST-MODIFIED:20260107T212027Z
UID:6436-1716719400-1716723000@claretians.org
SUMMARY:Granite Falls\, MN - Parish Mission Visit
DESCRIPTION:Learn of the inspiring work of the Claretian Missionaries in the homily of  Fr. Reegan Soosai\, CMF at the celebration of Mass at St. Andrew Church.
URL:https://claretians.org/event/parish-mission-visit-with-fr-reegan-soosai/
LOCATION:St. Andrew Church\, 450 11th Avenue\, Granite Falls\, MN\, 56241\, United States
CATEGORIES:PMV
END:VEVENT
END:VCALENDAR